BEGIN:VCALENDAR
VERSION:2.0
PRODID:-//Treningi Dosiadowe Natalia Jasicka-Krugiołka - ECPv6.15.20//NONSGML v1.0//EN
CALSCALE:GREGORIAN
METHOD:PUBLISH
X-WR-CALNAME:Treningi Dosiadowe Natalia Jasicka-Krugiołka
X-ORIGINAL-URL:https://treningidosiadowe.pl
X-WR-CALDESC:Wydarzenia dla Treningi Dosiadowe Natalia Jasicka-Krugiołka
REFRESH-INTERVAL;VALUE=DURATION:PT1H
X-Robots-Tag:noindex
X-PUBLISHED-TTL:PT1H
BEGIN:VTIMEZONE
TZID:Europe/Warsaw
BEGIN:DAYLIGHT
TZOFFSETFROM:+0100
TZOFFSETTO:+0200
TZNAME:CEST
DTSTART:20250330T010000
END:DAYLIGHT
BEGIN:STANDARD
TZOFFSETFROM:+0200
TZOFFSETTO:+0100
TZNAME:CET
DTSTART:20251026T010000
END:STANDARD
BEGIN:DAYLIGHT
TZOFFSETFROM:+0100
TZOFFSETTO:+0200
TZNAME:CEST
DTSTART:20260329T010000
END:DAYLIGHT
BEGIN:STANDARD
TZOFFSETFROM:+0200
TZOFFSETTO:+0100
TZNAME:CET
DTSTART:20261025T010000
END:STANDARD
BEGIN:DAYLIGHT
TZOFFSETFROM:+0100
TZOFFSETTO:+0200
TZNAME:CEST
DTSTART:20270328T010000
END:DAYLIGHT
BEGIN:STANDARD
TZOFFSETFROM:+0200
TZOFFSETTO:+0100
TZNAME:CET
DTSTART:20271031T010000
END:STANDARD
END:VTIMEZONE
BEGIN:VEVENT
DTSTART;TZID=Europe/Warsaw:20260804T000000
DTEND;TZID=Europe/Warsaw:20260808T235959
DTSTAMP:20260419T151816
CREATED:20230212T074711Z
LAST-MODIFIED:20260213T105757Z
UID:2993-1785801600-1786233599@treningidosiadowe.pl
SUMMARY:OBÓZ DOSIADOWY - STAJNIA ALADO
DESCRIPTION:Informacje – Kasia Bujarska – 662-128-186 \nJak co roku zapraszam Was na obóz do Alado 🙂 \n 
URL:https://treningidosiadowe.pl/wydarzenie/oboz-dosiadowy-stajnia-alado/
CATEGORIES:Szkolenie jeździeckie
ATTACH;FMTTYPE=image/png:https://treningidosiadowe.pl/wp-content/uploads/2023/02/Projekt-bez-tytulu1.png
END:VEVENT
BEGIN:VEVENT
DTSTART;TZID=Europe/Warsaw:20260912T080000
DTEND;TZID=Europe/Warsaw:20260913T170000
DTSTAMP:20260419T151816
CREATED:20250331T071608Z
LAST-MODIFIED:20260213T104704Z
UID:4445-1789200000-1789318800@treningidosiadowe.pl
SUMMARY:Sprawność psychofizyczna jeźdźców i treningi dosiadowe / Wisełka nad morzem :)
DESCRIPTION:Informacje i zapisy – Mirela Orłowska – 600437687 \nSTAJNIA ORŁOWSCY – RABIĄŻ 1A \n  \n 
URL:https://treningidosiadowe.pl/wydarzenie/sprawnosc-psychofizyczna-jezdzcow-i-treningi-dosiadowe-wiselka-nad-morzem/
CATEGORIES:Szkolenie jeździeckie
ATTACH;FMTTYPE=image/jpeg:https://treningidosiadowe.pl/wp-content/uploads/2024/04/DSC0172-scaled-1.jpg
END:VEVENT
BEGIN:VEVENT
DTSTART;TZID=Europe/Warsaw:20261128T080000
DTEND;TZID=Europe/Warsaw:20261129T170000
DTSTAMP:20260419T151816
CREATED:20250609T062836Z
LAST-MODIFIED:20260130T160442Z
UID:5175-1795852800-1795971600@treningidosiadowe.pl
SUMMARY:Treningi dosiadowe\, konsultacje fizjoterapeutyczne\, TRE@ - Zaczarowane Wzgórze k/Wieliczki
DESCRIPTION:Informacje – Basia Draus – 609-050-991 \nZapisy tylko przez stronę Zaczarowane Wzgórza \nhttps://www.wzgorze.eco.pl/szkolenia/106\,11-12-pazdziernik-2025.html \n 
URL:https://treningidosiadowe.pl/wydarzenie/treningi-dosiadowe-konsultacje-fizjoterapeutyczne-tre-zaczarowane-wzgorze-k-wieliczki-2/
CATEGORIES:Szkolenie jeździeckie
ATTACH;FMTTYPE=image/jpeg:https://treningidosiadowe.pl/wp-content/uploads/2024/12/75-scaled-1.jpg
END:VEVENT
END:VCALENDAR